BEGIN:VCALENDAR
VERSION:2.0
PRODID:-//SAM//Rain Medication Reminders//EN
CALSCALE:GREGORIAN
METHOD:PUBLISH
X-WR-CALNAME:Rain Medication Reminders
X-WR-TIMEZONE:Europe/London
BEGIN:VEVENT
UID:6f7cbdc7-970b-4c09-853a-31a484994889@rainmeds.local
DTSTAMP:20260421T213633Z
SUMMARY:Rain meds: Rhumacam — 20kg dose
DESCRIPTION:Give Rhumacam (20kg dose). Repeats every 24 hours..
DTSTART;TZID=Europe/London:20260422T130000
DURATION:PT5M
RRULE:FREQ=DAILY
BEGIN:VALARM
ACTION:DISPLAY
DESCRIPTION:Rain meds: Rhumacam — 20kg dose
TRIGGER:-PT10M
END:VALARM
BEGIN:VALARM
ACTION:DISPLAY
DESCRIPTION:Rain meds: Rhumacam — 20kg dose
TRIGGER:PT0M
END:VALARM
END:VEVENT
BEGIN:VEVENT
UID:0505ffc0-7d63-4ca9-8cc2-fc069331d99c@rainmeds.local
DTSTAMP:20260421T213633Z
SUMMARY:Rain meds: Pardale — 1 tablet
DESCRIPTION:Give Pardale (1 tablet). Repeats every 8 hours via fixed daily reminder times.
DTSTART;TZID=Europe/London:20260422T010000
DURATION:PT5M
RRULE:FREQ=DAILY
BEGIN:VALARM
ACTION:DISPLAY
DESCRIPTION:Rain meds: Pardale — 1 tablet
TRIGGER:-PT10M
END:VALARM
BEGIN:VALARM
ACTION:DISPLAY
DESCRIPTION:Rain meds: Pardale — 1 tablet
TRIGGER:PT0M
END:VALARM
END:VEVENT
BEGIN:VEVENT
UID:f84b4601-7771-4c3f-ad03-043575964870@rainmeds.local
DTSTAMP:20260421T213633Z
SUMMARY:Rain meds: Pardale — 1 tablet
DESCRIPTION:Give Pardale (1 tablet). Repeats every 8 hours via fixed daily reminder times.
DTSTART;TZID=Europe/London:20260422T090000
DURATION:PT5M
RRULE:FREQ=DAILY
BEGIN:VALARM
ACTION:DISPLAY
DESCRIPTION:Rain meds: Pardale — 1 tablet
TRIGGER:-PT10M
END:VALARM
BEGIN:VALARM
ACTION:DISPLAY
DESCRIPTION:Rain meds: Pardale — 1 tablet
TRIGGER:PT0M
END:VALARM
END:VEVENT
BEGIN:VEVENT
UID:5bf3c5ae-5f90-4ce1-ace2-98ee52948f0e@rainmeds.local
DTSTAMP:20260421T213633Z
SUMMARY:Rain meds: Pardale — 1 tablet
DESCRIPTION:Give Pardale (1 tablet). Repeats every 8 hours via fixed daily reminder times.
DTSTART;TZID=Europe/London:20260422T170000
DURATION:PT5M
RRULE:FREQ=DAILY
BEGIN:VALARM
ACTION:DISPLAY
DESCRIPTION:Rain meds: Pardale — 1 tablet
TRIGGER:-PT10M
END:VALARM
BEGIN:VALARM
ACTION:DISPLAY
DESCRIPTION:Rain meds: Pardale — 1 tablet
TRIGGER:PT0M
END:VALARM
END:VEVENT
BEGIN:VEVENT
UID:c0de3b19-3c33-42ff-8062-8938da59ef00@rainmeds.local
DTSTAMP:20260421T213633Z
SUMMARY:Rain meds: Antibiotics — 1.5 tablets
DESCRIPTION:Give Antibiotics (1.5 tablets). Repeats every 12 hours via fixed daily reminder times.
DTSTART;TZID=Europe/London:20260422T010000
DURATION:PT5M
RRULE:FREQ=DAILY
BEGIN:VALARM
ACTION:DISPLAY
DESCRIPTION:Rain meds: Antibiotics — 1.5 tablets
TRIGGER:-PT10M
END:VALARM
BEGIN:VALARM
ACTION:DISPLAY
DESCRIPTION:Rain meds: Antibiotics — 1.5 tablets
TRIGGER:PT0M
END:VALARM
END:VEVENT
BEGIN:VEVENT
UID:09969152-5034-4bcc-9bdb-a6ce5c94cd78@rainmeds.local
DTSTAMP:20260421T213633Z
SUMMARY:Rain meds: Antibiotics — 1.5 tablets
DESCRIPTION:Give Antibiotics (1.5 tablets). Repeats every 12 hours via fixed daily reminder times.
DTSTART;TZID=Europe/London:20260422T130000
DURATION:PT5M
RRULE:FREQ=DAILY
BEGIN:VALARM
ACTION:DISPLAY
DESCRIPTION:Rain meds: Antibiotics — 1.5 tablets
TRIGGER:-PT10M
END:VALARM
BEGIN:VALARM
ACTION:DISPLAY
DESCRIPTION:Rain meds: Antibiotics — 1.5 tablets
TRIGGER:PT0M
END:VALARM
END:VEVENT
END:VCALENDAR
